BEGIN:VCALENDAR
VERSION:2.0
PRODID:-//Contratero//ES
CALSCALE:GREGORIAN
METHOD:PUBLISH
BEGIN:VEVENT
UID:SU 7/2025@contratero.es
DTSTAMP:20260421T090628Z
DTSTART:20250707T235959
DTEND:20250708T005959
SUMMARY:Cierre: Renovación de licencias software de sistemas para 
DESCRIPTION:Renovación de licencias software de sistemas para el Coud provincial de la Diputación de Granada\\n\\nOrganismo: Presidencia de la Diputación Provincial de Granada\\n\\nVer en Contratero: https://contratero.es/contracts/SU 7/2025
URL:https://contratero.es/contracts/SU 7/2025
STATUS:CONFIRMED
BEGIN:VALARM
TRIGGER:-P1D
ACTION:DISPLAY
DESCRIPTION:Recordatorio: Renovación de licencias softwa
END:VALARM
END:VEVENT
END:VCALENDAR